BEGIN:VCALENDAR
VERSION:2.0
PRODID:-//Longleaf Golf &amp; Family Club - ECPv6.15.18//NONSGML v1.0//EN
CALSCALE:GREGORIAN
METHOD:PUBLISH
X-ORIGINAL-URL:https://www.longleafgfc.com
X-WR-CALDESC:Events for Longleaf Golf &amp; Family Club
REFRESH-INTERVAL;VALUE=DURATION:PT1H
X-Robots-Tag:noindex
X-PUBLISHED-TTL:PT1H
BEGIN:VTIMEZONE
TZID:UTC
BEGIN:STANDARD
TZOFFSETFROM:+0000
TZOFFSETTO:+0000
TZNAME:UTC
DTSTART:20250101T000000
END:STANDARD
END:VTIMEZONE
BEGIN:VEVENT
DTSTART;VALUE=DATE:20260810
DTEND;VALUE=DATE:20260811
DTSTAMP:20260421T082523
CREATED:20250221T213156Z
LAST-MODIFIED:20250221T213233Z
UID:10003975-1786320000-1786406399@www.longleafgfc.com
SUMMARY:Aerification Facility Closed
DESCRIPTION:
URL:https://www.longleafgfc.com/event/aerification-faculty-closed/2026-08-10/
END:VEVENT
BEGIN:VEVENT
DTSTART;VALUE=DATE:20260811
DTEND;VALUE=DATE:20260812
DTSTAMP:20260421T082523
CREATED:20250221T213156Z
LAST-MODIFIED:20250221T213233Z
UID:10003976-1786406400-1786492799@www.longleafgfc.com
SUMMARY:Aerification Facility Closed
DESCRIPTION:
URL:https://www.longleafgfc.com/event/aerification-faculty-closed/2026-08-11/
END:VEVENT
BEGIN:VEVENT
DTSTART;VALUE=DATE:20260812
DTEND;VALUE=DATE:20260813
DTSTAMP:20260421T082523
CREATED:20250221T213156Z
LAST-MODIFIED:20250221T213233Z
UID:10003977-1786492800-1786579199@www.longleafgfc.com
SUMMARY:Aerification Facility Closed
DESCRIPTION:
URL:https://www.longleafgfc.com/event/aerification-faculty-closed/2026-08-12/
END:VEVENT
END:VCALENDAR