BEGIN:VCALENDAR
VERSION:2.0
PRODID:-//Longleaf Golf &amp; Family Club - ECPv6.15.18//NONSGML v1.0//EN
CALSCALE:GREGORIAN
METHOD:PUBLISH
X-WR-CALNAME:Longleaf Golf &amp; Family Club
X-ORIGINAL-URL:https://www.longleafgfc.com
X-WR-CALDESC:Events for Longleaf Golf &amp; Family Club
REFRESH-INTERVAL;VALUE=DURATION:PT1H
X-Robots-Tag:noindex
X-PUBLISHED-TTL:PT1H
BEGIN:VTIMEZONE
TZID:UTC
BEGIN:STANDARD
TZOFFSETFROM:+0000
TZOFFSETTO:+0000
TZNAME:UTC
DTSTART:20250101T000000
END:STANDARD
END:VTIMEZONE
BEGIN:VEVENT
DTSTART;VALUE=DATE:20260422
DTEND;VALUE=DATE:20260423
DTSTAMP:20260422T104842
CREATED:20260115T180348Z
LAST-MODIFIED:20260115T180348Z
UID:10004518-1776816000-1776902399@www.longleafgfc.com
SUMMARY:MGA 9:30
DESCRIPTION:
URL:https://www.longleafgfc.com/event/mga-930-16/2026-04-22/
END:VEVENT
BEGIN:VEVENT
DTSTART;TZID=UTC:20260422T170000
DTEND;TZID=UTC:20260422T200000
DTSTAMP:20260422T104842
CREATED:20260107T220147Z
LAST-MODIFIED:20260107T220203Z
UID:10004473-1776877200-1776888000@www.longleafgfc.com
SUMMARY:April Member Social
DESCRIPTION:
URL:https://www.longleafgfc.com/event/april-member-social-2/
END:VEVENT
END:VCALENDAR