BEGIN:VCALENDAR
VERSION:2.0
PRODID:-//Longleaf Golf &amp; Family Club - ECPv6.15.18//NONSGML v1.0//EN
CALSCALE:GREGORIAN
METHOD:PUBLISH
X-ORIGINAL-URL:https://www.longleafgfc.com
X-WR-CALDESC:Events for Longleaf Golf &amp; Family Club
REFRESH-INTERVAL;VALUE=DURATION:PT1H
X-Robots-Tag:noindex
X-PUBLISHED-TTL:PT1H
BEGIN:VTIMEZONE
TZID:UTC
BEGIN:STANDARD
TZOFFSETFROM:+0000
TZOFFSETTO:+0000
TZNAME:UTC
DTSTART:20240101T000000
END:STANDARD
END:VTIMEZONE
BEGIN:VEVENT
DTSTART;VALUE=DATE:20250116
DTEND;VALUE=DATE:20250117
DTSTAMP:20260420T231032
CREATED:20241211T211516Z
LAST-MODIFIED:20241211T211516Z
UID:10003638-1736985600-1737071999@www.longleafgfc.com
SUMMARY:Women's Open Play Day 10:30
DESCRIPTION:
URL:https://www.longleafgfc.com/event/womens-open-play-day-1030-5/
END:VEVENT
END:VCALENDAR