BEGIN:VCALENDAR
VERSION:2.0
PRODID:-//Longleaf Golf &amp; Family Club - ECPv6.15.18//NONSGML v1.0//EN
CALSCALE:GREGORIAN
METHOD:PUBLISH
X-WR-CALNAME:Longleaf Golf &amp; Family Club
X-ORIGINAL-URL:https://www.longleafgfc.com
X-WR-CALDESC:Events for Longleaf Golf &amp; Family Club
REFRESH-INTERVAL;VALUE=DURATION:PT1H
X-Robots-Tag:noindex
X-PUBLISHED-TTL:PT1H
BEGIN:VTIMEZONE
TZID:UTC
BEGIN:STANDARD
TZOFFSETFROM:+0000
TZOFFSETTO:+0000
TZNAME:UTC
DTSTART:20230101T000000
END:STANDARD
END:VTIMEZONE
BEGIN:VEVENT
DTSTART;VALUE=DATE:20241215
DTEND;VALUE=DATE:20241216
DTSTAMP:20260425T103444
CREATED:20241018T151521Z
LAST-MODIFIED:20241018T151705Z
UID:10002868-1734220800-1734307199@www.longleafgfc.com
SUMMARY:VGA 9:00 Shotgun
DESCRIPTION:
URL:https://www.longleafgfc.com/event/vga-900-shotgun/
END:VEVENT
END:VCALENDAR