BEGIN:VCALENDAR
VERSION:2.0
PRODID:-//Longleaf Golf &amp; Family Club - ECPv6.15.18//NONSGML v1.0//EN
CALSCALE:GREGORIAN
METHOD:PUBLISH
X-WR-CALNAME:Longleaf Golf &amp; Family Club
X-ORIGINAL-URL:https://www.longleafgfc.com
X-WR-CALDESC:Events for Longleaf Golf &amp; Family Club
REFRESH-INTERVAL;VALUE=DURATION:PT1H
X-Robots-Tag:noindex
X-PUBLISHED-TTL:PT1H
BEGIN:VTIMEZONE
TZID:UTC
BEGIN:STANDARD
TZOFFSETFROM:+0000
TZOFFSETTO:+0000
TZNAME:UTC
DTSTART:20230101T000000
END:STANDARD
END:VTIMEZONE
BEGIN:VEVENT
DTSTART;VALUE=DATE:20241001
DTEND;VALUE=DATE:20241002
DTSTAMP:20260420T230941
CREATED:20240405T165221Z
LAST-MODIFIED:20240510T213709Z
UID:10002110-1727740800-1727827199@www.longleafgfc.com
SUMMARY:Sandhill CC Flyers Fall Tournament
DESCRIPTION:
URL:https://www.longleafgfc.com/event/sandhill-cc-flyers-fall-tournament/2024-10-01/
END:VEVENT
BEGIN:VEVENT
DTSTART;TZID=UTC:20241001T133000
DTEND;TZID=UTC:20241001T180000
DTSTAMP:20260420T230941
CREATED:20240808T185657Z
LAST-MODIFIED:20240808T190054Z
UID:10002491-1727789400-1727805600@www.longleafgfc.com
SUMMARY:USGA Camp 1894 1:30 Shotgun
DESCRIPTION:
URL:https://www.longleafgfc.com/event/usga-camp-1894-130-shotgun/
END:VEVENT
END:VCALENDAR