BEGIN:VCALENDAR
VERSION:2.0
PRODID:-//Longleaf Golf &amp; Family Club - ECPv6.15.18//NONSGML v1.0//EN
CALSCALE:GREGORIAN
METHOD:PUBLISH
X-WR-CALNAME:Longleaf Golf &amp; Family Club
X-ORIGINAL-URL:https://www.longleafgfc.com
X-WR-CALDESC:Events for Longleaf Golf &amp; Family Club
REFRESH-INTERVAL;VALUE=DURATION:PT1H
X-Robots-Tag:noindex
X-PUBLISHED-TTL:PT1H
BEGIN:VTIMEZONE
TZID:UTC
BEGIN:STANDARD
TZOFFSETFROM:+0000
TZOFFSETTO:+0000
TZNAME:UTC
DTSTART:20230101T000000
END:STANDARD
END:VTIMEZONE
BEGIN:VEVENT
DTSTART;VALUE=DATE:20240701
DTEND;VALUE=DATE:20240702
DTSTAMP:20260423T191902
CREATED:20240405T135154Z
LAST-MODIFIED:20240405T135525Z
UID:10000478-1719792000-1719878399@www.longleafgfc.com
SUMMARY:Tin Whistles Jr Tour 2:00 pm
DESCRIPTION:
URL:https://www.longleafgfc.com/event/tin-whistles-jr-tour-200-pm/
END:VEVENT
BEGIN:VEVENT
DTSTART;VALUE=DATE:20240701
DTEND;VALUE=DATE:20240702
DTSTAMP:20260423T191902
CREATED:20240405T135021Z
LAST-MODIFIED:20240405T135340Z
UID:10000477-1719792000-1719878399@www.longleafgfc.com
SUMMARY:Member 4th of July Tournament & BBQ 8:30 1:00 Lunch
DESCRIPTION:
URL:https://www.longleafgfc.com/event/member-4th-of-july-tournament-bbq/
END:VEVENT
END:VCALENDAR