BEGIN:VCALENDAR
VERSION:2.0
PRODID:-//Longleaf Golf &amp; Family Club - ECPv6.15.18//NONSGML v1.0//EN
CALSCALE:GREGORIAN
METHOD:PUBLISH
X-WR-CALNAME:Longleaf Golf &amp; Family Club
X-ORIGINAL-URL:https://www.longleafgfc.com
X-WR-CALDESC:Events for Longleaf Golf &amp; Family Club
REFRESH-INTERVAL;VALUE=DURATION:PT1H
X-Robots-Tag:noindex
X-PUBLISHED-TTL:PT1H
BEGIN:VTIMEZONE
TZID:UTC
BEGIN:STANDARD
TZOFFSETFROM:+0000
TZOFFSETTO:+0000
TZNAME:UTC
DTSTART:20230101T000000
END:STANDARD
END:VTIMEZONE
BEGIN:VEVENT
DTSTART;VALUE=DATE:20240620
DTEND;VALUE=DATE:20240621
DTSTAMP:20260424T064508
CREATED:20240405T142111Z
LAST-MODIFIED:20240405T142111Z
UID:10000488-1718841600-1718927999@www.longleafgfc.com
SUMMARY:LWGA 18ers 8:30
DESCRIPTION:
URL:https://www.longleafgfc.com/event/lwga-18ers-830-2/2024-06-20/
END:VEVENT
BEGIN:VEVENT
DTSTART;VALUE=DATE:20240620
DTEND;VALUE=DATE:20240621
DTSTAMP:20260424T064508
CREATED:20240405T142443Z
LAST-MODIFIED:20240405T142443Z
UID:10000491-1718841600-1718927999@www.longleafgfc.com
SUMMARY:LWGA 9ers 9:00
DESCRIPTION:
URL:https://www.longleafgfc.com/event/lwga-9ers-900-3/2024-06-20/
END:VEVENT
END:VCALENDAR