BEGIN:VCALENDAR
VERSION:2.0
PRODID:-//Longleaf Golf &amp; Family Club - ECPv6.15.18//NONSGML v1.0//EN
CALSCALE:GREGORIAN
METHOD:PUBLISH
X-WR-CALNAME:Longleaf Golf &amp; Family Club
X-ORIGINAL-URL:https://www.longleafgfc.com
X-WR-CALDESC:Events for Longleaf Golf &amp; Family Club
REFRESH-INTERVAL;VALUE=DURATION:PT1H
X-Robots-Tag:noindex
X-PUBLISHED-TTL:PT1H
BEGIN:VTIMEZONE
TZID:UTC
BEGIN:STANDARD
TZOFFSETFROM:+0000
TZOFFSETTO:+0000
TZNAME:UTC
DTSTART:20230101T000000
END:STANDARD
END:VTIMEZONE
BEGIN:VEVENT
DTSTART;VALUE=DATE:20240617
DTEND;VALUE=DATE:20240618
DTSTAMP:20260424T051052
CREATED:20240405T133132Z
LAST-MODIFIED:20240405T133132Z
UID:10000470-1718582400-1718668799@www.longleafgfc.com
SUMMARY:JY Dogs 8:30
DESCRIPTION:
URL:https://www.longleafgfc.com/event/jy-dogs-830-2/
END:VEVENT
BEGIN:VEVENT
DTSTART;VALUE=DATE:20240617
DTEND;VALUE=DATE:20240618
DTSTAMP:20260424T051052
CREATED:20240405T133453Z
LAST-MODIFIED:20240405T133453Z
UID:10000472-1718582400-1718668799@www.longleafgfc.com
SUMMARY:Mulligans 9:10
DESCRIPTION:
URL:https://www.longleafgfc.com/event/mulligans-910-2/2024-06-17/
END:VEVENT
END:VCALENDAR