BEGIN:VCALENDAR
VERSION:2.0
PRODID:-//Longleaf Golf &amp; Family Club - ECPv6.15.18//NONSGML v1.0//EN
CALSCALE:GREGORIAN
METHOD:PUBLISH
X-WR-CALNAME:Longleaf Golf &amp; Family Club
X-ORIGINAL-URL:https://www.longleafgfc.com
X-WR-CALDESC:Events for Longleaf Golf &amp; Family Club
REFRESH-INTERVAL;VALUE=DURATION:PT1H
X-Robots-Tag:noindex
X-PUBLISHED-TTL:PT1H
BEGIN:VTIMEZONE
TZID:UTC
BEGIN:STANDARD
TZOFFSETFROM:+0000
TZOFFSETTO:+0000
TZNAME:UTC
DTSTART:20230101T000000
END:STANDARD
END:VTIMEZONE
BEGIN:VEVENT
DTSTART;VALUE=DATE:20240523
DTEND;VALUE=DATE:20240524
DTSTAMP:20260424T051259
CREATED:20240404T213854Z
LAST-MODIFIED:20240404T213854Z
UID:10000422-1716422400-1716508799@www.longleafgfc.com
SUMMARY:LWGA 18ers 9:00
DESCRIPTION:
URL:https://www.longleafgfc.com/event/lwga-18ers-900/2024-05-23/
END:VEVENT
BEGIN:VEVENT
DTSTART;VALUE=DATE:20240523
DTEND;VALUE=DATE:20240524
DTSTAMP:20260424T051259
CREATED:20240404T214001Z
LAST-MODIFIED:20240404T214001Z
UID:10000427-1716422400-1716508799@www.longleafgfc.com
SUMMARY:LWGA 9ers 9:00
DESCRIPTION:
URL:https://www.longleafgfc.com/event/lwga-9ers-900/2024-05-23/
END:VEVENT
BEGIN:VEVENT
DTSTART;VALUE=DATE:20240523
DTEND;VALUE=DATE:20240524
DTSTAMP:20260424T051259
CREATED:20240507T150526Z
LAST-MODIFIED:20240507T150526Z
UID:10002095-1716422400-1716508799@www.longleafgfc.com
SUMMARY:Longleaf Member's Pool Open's for the Season
DESCRIPTION:
URL:https://www.longleafgfc.com/event/longleaf-members-pool-opens-for-the-season/
END:VEVENT
END:VCALENDAR