BEGIN:VCALENDAR
VERSION:2.0
PRODID:-//Longleaf Golf &amp; Family Club - ECPv6.15.18//NONSGML v1.0//EN
CALSCALE:GREGORIAN
METHOD:PUBLISH
X-ORIGINAL-URL:https://www.longleafgfc.com
X-WR-CALDESC:Events for Longleaf Golf &amp; Family Club
REFRESH-INTERVAL;VALUE=DURATION:PT1H
X-Robots-Tag:noindex
X-PUBLISHED-TTL:PT1H
BEGIN:VTIMEZONE
TZID:UTC
BEGIN:STANDARD
TZOFFSETFROM:+0000
TZOFFSETTO:+0000
TZNAME:UTC
DTSTART:20230101T000000
END:STANDARD
END:VTIMEZONE
BEGIN:VEVENT
DTSTART;VALUE=DATE:20240425
DTEND;VALUE=DATE:20240426
DTSTAMP:20260424T112954
CREATED:20240404T213702Z
LAST-MODIFIED:20240404T213702Z
UID:10000418-1714003200-1714089599@www.longleafgfc.com
SUMMARY:NC Golf Panel 9:00 Shotgun
DESCRIPTION:
URL:https://www.longleafgfc.com/event/nc-golf-panel-900-shotgun/
END:VEVENT
BEGIN:VEVENT
DTSTART;VALUE=DATE:20240425
DTEND;VALUE=DATE:20240426
DTSTAMP:20260424T112954
CREATED:20240430T182138Z
LAST-MODIFIED:20240430T182138Z
UID:10001344-1714003200-1714089599@www.longleafgfc.com
SUMMARY:Tar Heel Junior Golf Tour
DESCRIPTION:
URL:https://www.longleafgfc.com/event/tar-heel-junior-golf-tour/2024-04-25/
END:VEVENT
END:VCALENDAR