BEGIN:VCALENDAR
VERSION:2.0
PRODID:-//Longleaf Golf &amp; Family Club - ECPv6.15.18//NONSGML v1.0//EN
CALSCALE:GREGORIAN
METHOD:PUBLISH
X-ORIGINAL-URL:https://www.longleafgfc.com
X-WR-CALDESC:Events for Longleaf Golf &amp; Family Club
REFRESH-INTERVAL;VALUE=DURATION:PT1H
X-Robots-Tag:noindex
X-PUBLISHED-TTL:PT1H
BEGIN:VTIMEZONE
TZID:UTC
BEGIN:STANDARD
TZOFFSETFROM:+0000
TZOFFSETTO:+0000
TZNAME:UTC
DTSTART:20230101T000000
END:STANDARD
END:VTIMEZONE
BEGIN:VEVENT
DTSTART;VALUE=DATE:20240424
DTEND;VALUE=DATE:20240425
DTSTAMP:20260424T112959
CREATED:20240416T203024Z
LAST-MODIFIED:20240416T203024Z
UID:10000927-1713916800-1714003199@www.longleafgfc.com
SUMMARY:MGA 9:30
DESCRIPTION:
URL:https://www.longleafgfc.com/event/mga-930-5/
END:VEVENT
BEGIN:VEVENT
DTSTART;VALUE=DATE:20240424
DTEND;VALUE=DATE:20240425
DTSTAMP:20260424T112959
CREATED:20240430T182138Z
LAST-MODIFIED:20240430T182138Z
UID:10001343-1713916800-1714003199@www.longleafgfc.com
SUMMARY:Tar Heel Junior Golf Tour
DESCRIPTION:
URL:https://www.longleafgfc.com/event/tar-heel-junior-golf-tour/2024-04-24/
END:VEVENT
BEGIN:VEVENT
DTSTART;TZID=UTC:20240424T110000
DTEND;TZID=UTC:20240424T160000
DTSTAMP:20260424T112959
CREATED:20240404T221657Z
LAST-MODIFIED:20240404T222518Z
UID:10000456-1713956400-1713974400@www.longleafgfc.com
SUMMARY:Titleist Fitting Day
DESCRIPTION:
URL:https://www.longleafgfc.com/event/titleist-fitting-day-2/
END:VEVENT
END:VCALENDAR