BEGIN:VCALENDAR
VERSION:2.0
PRODID:-//Longleaf Golf &amp; Family Club - ECPv6.15.18//NONSGML v1.0//EN
CALSCALE:GREGORIAN
METHOD:PUBLISH
X-WR-CALNAME:Longleaf Golf &amp; Family Club
X-ORIGINAL-URL:https://www.longleafgfc.com
X-WR-CALDESC:Events for Longleaf Golf &amp; Family Club
REFRESH-INTERVAL;VALUE=DURATION:PT1H
X-Robots-Tag:noindex
X-PUBLISHED-TTL:PT1H
BEGIN:VTIMEZONE
TZID:UTC
BEGIN:STANDARD
TZOFFSETFROM:+0000
TZOFFSETTO:+0000
TZNAME:UTC
DTSTART:20230101T000000
END:STANDARD
END:VTIMEZONE
BEGIN:VEVENT
DTSTART;VALUE=DATE:20240423
DTEND;VALUE=DATE:20240424
DTSTAMP:20260424T081239
CREATED:20240404T213010Z
LAST-MODIFIED:20240404T213010Z
UID:10000408-1713830400-1713916799@www.longleafgfc.com
SUMMARY:Ladies Fun Day 9:30
DESCRIPTION:
URL:https://www.longleafgfc.com/event/ladies-fun-day-930/2024-04-23/
END:VEVENT
BEGIN:VEVENT
DTSTART;VALUE=DATE:20240423
DTEND;VALUE=DATE:20240424
DTSTAMP:20260424T081239
CREATED:20240430T182138Z
LAST-MODIFIED:20240430T182138Z
UID:10001342-1713830400-1713916799@www.longleafgfc.com
SUMMARY:Tar Heel Junior Golf Tour
DESCRIPTION:
URL:https://www.longleafgfc.com/event/tar-heel-junior-golf-tour/2024-04-23/
END:VEVENT
BEGIN:VEVENT
DTSTART;TZID=UTC:20240423T110000
DTEND;TZID=UTC:20240423T150000
DTSTAMP:20260424T081239
CREATED:20240404T214139Z
LAST-MODIFIED:20240404T214139Z
UID:10000429-1713870000-1713884400@www.longleafgfc.com
SUMMARY:Callaway Fitting Day
DESCRIPTION:
URL:https://www.longleafgfc.com/event/callaway-fitting-day/
END:VEVENT
END:VCALENDAR