BEGIN:VCALENDAR
VERSION:2.0
PRODID:-//Longleaf Golf &amp; Family Club - ECPv6.15.18//NONSGML v1.0//EN
CALSCALE:GREGORIAN
METHOD:PUBLISH
X-WR-CALNAME:Longleaf Golf &amp; Family Club
X-ORIGINAL-URL:https://www.longleafgfc.com
X-WR-CALDESC:Events for Longleaf Golf &amp; Family Club
REFRESH-INTERVAL;VALUE=DURATION:PT1H
X-Robots-Tag:noindex
X-PUBLISHED-TTL:PT1H
BEGIN:VTIMEZONE
TZID:UTC
BEGIN:STANDARD
TZOFFSETFROM:+0000
TZOFFSETTO:+0000
TZNAME:UTC
DTSTART:20230101T000000
END:STANDARD
END:VTIMEZONE
BEGIN:VEVENT
DTSTART;VALUE=DATE:20240418
DTEND;VALUE=DATE:20240419
DTSTAMP:20260424T160949
CREATED:20240404T213206Z
LAST-MODIFIED:20240404T213206Z
UID:10000412-1713398400-1713484799@www.longleafgfc.com
SUMMARY:LWGA 18ers 9:30
DESCRIPTION:
URL:https://www.longleafgfc.com/event/lwga-18ers-930/2024-04-18/
END:VEVENT
BEGIN:VEVENT
DTSTART;VALUE=DATE:20240418
DTEND;VALUE=DATE:20240419
DTSTAMP:20260424T160949
CREATED:20240404T213314Z
LAST-MODIFIED:20240404T213314Z
UID:10000415-1713398400-1713484799@www.longleafgfc.com
SUMMARY:LWGA 9ers 10:00
DESCRIPTION:
URL:https://www.longleafgfc.com/event/lwga-9ers-1000/2024-04-18/
END:VEVENT
BEGIN:VEVENT
DTSTART;VALUE=DATE:20240418
DTEND;VALUE=DATE:20240419
DTSTAMP:20260424T160949
CREATED:20240430T182138Z
LAST-MODIFIED:20240430T182138Z
UID:10001337-1713398400-1713484799@www.longleafgfc.com
SUMMARY:Tar Heel Junior Golf Tour
DESCRIPTION:
URL:https://www.longleafgfc.com/event/tar-heel-junior-golf-tour/2024-04-18/
END:VEVENT
BEGIN:VEVENT
DTSTART;TZID=UTC:20240418T170000
DTEND;TZID=UTC:20240418T200000
DTSTAMP:20260424T160949
CREATED:20240404T213615Z
LAST-MODIFIED:20240404T222756Z
UID:10000417-1713459600-1713470400@www.longleafgfc.com
SUMMARY:April Member Social
DESCRIPTION:
URL:https://www.longleafgfc.com/event/april-member-social/
END:VEVENT
END:VCALENDAR