BEGIN:VCALENDAR
VERSION:2.0
PRODID:-//Longleaf Golf &amp; Family Club - ECPv6.15.18//NONSGML v1.0//EN
CALSCALE:GREGORIAN
METHOD:PUBLISH
X-WR-CALNAME:Longleaf Golf &amp; Family Club
X-ORIGINAL-URL:https://www.longleafgfc.com
X-WR-CALDESC:Events for Longleaf Golf &amp; Family Club
REFRESH-INTERVAL;VALUE=DURATION:PT1H
X-Robots-Tag:noindex
X-PUBLISHED-TTL:PT1H
BEGIN:VTIMEZONE
TZID:UTC
BEGIN:STANDARD
TZOFFSETFROM:+0000
TZOFFSETTO:+0000
TZNAME:UTC
DTSTART:20230101T000000
END:STANDARD
END:VTIMEZONE
BEGIN:VEVENT
DTSTART;VALUE=DATE:20240413
DTEND;VALUE=DATE:20240414
DTSTAMP:20260424T081326
CREATED:20240430T182138Z
LAST-MODIFIED:20240430T182138Z
UID:10001332-1712966400-1713052799@www.longleafgfc.com
SUMMARY:Tar Heel Junior Golf Tour
DESCRIPTION:
URL:https://www.longleafgfc.com/event/tar-heel-junior-golf-tour/2024-04-13/
END:VEVENT
BEGIN:VEVENT
DTSTART;VALUE=DATE:20240413
DTEND;VALUE=DATE:20240414
DTSTAMP:20260424T081326
CREATED:20240413T172551Z
LAST-MODIFIED:20240413T172552Z
UID:10000926-1712995200-1713027600@www.longleafgfc.com
SUMMARY:MGA 10:00
DESCRIPTION:
URL:https://www.longleafgfc.com/event/mga-930-3/2024-04-13/
END:VEVENT
END:VCALENDAR